BEGIN:VCALENDAR
VERSION:2.0
CREATED:20260422T211209Z
PRODID:-//ACV Auctions Inc./Equisolve Calendar v1.0//EN
METHOD:PUBLISH
BEGIN:VEVENT
UID:30a389772d834ab86a77159c241149a9
DTSTAMP:20260423T105051Z
DTSTART:20260506T210000Z
DTEND:20260506T220000Z
SUMMARY:ACVA 1Q26 Earnings Call
DESCRIPTION:ACVA 1Q26 Earnings Call\nDate: May 6\, 2026 5:00 pm EDT\nWebcast: https://event.choruscall.com/mediaframe/webcast.html?webcastid=7PdKKobs
END:VEVENT
END:VCALENDAR
