BEGIN:VCALENDAR
VERSION:2.0
CREATED:20260416T225659Z
PRODID:-//ACV Auctions Inc./Equisolve Calendar v1.0//EN
METHOD:PUBLISH
BEGIN:VEVENT
UID:010c172c0f30ceea167089faa80e4a98
DTSTAMP:20260420T143603Z
DTSTART:20260527T200000Z
DTEND:20260527T210000Z
SUMMARY:Annual Meeting of Stockholders
DESCRIPTION:Annual Meeting of Stockholders\nDate: May 27\, 2026 4:00 pm EDT\nWebcast: https://www.proxydocs.com/branding/966470/2026/issuer/
END:VEVENT
END:VCALENDAR
